BEGIN:VCALENDAR
VERSION:2.0
PRODID:-//Love Beauty Pro Medical Institute - ECPv6.7.0//NONSGML v1.0//EN
CALSCALE:GREGORIAN
METHOD:PUBLISH
X-WR-CALNAME:Love Beauty Pro Medical Institute
X-ORIGINAL-URL:https://lovebeautypro.com
X-WR-CALDESC:Events for Love Beauty Pro Medical Institute
REFRESH-INTERVAL;VALUE=DURATION:PT1H
X-Robots-Tag:noindex
X-PUBLISHED-TTL:PT1H
BEGIN:VTIMEZONE
TZID:America/New_York
BEGIN:DAYLIGHT
TZOFFSETFROM:-0500
TZOFFSETTO:-0400
TZNAME:EDT
DTSTART:20210314T070000
END:DAYLIGHT
BEGIN:STANDARD
TZOFFSETFROM:-0400
TZOFFSETTO:-0500
TZNAME:EST
DTSTART:20211107T060000
END:STANDARD
END:VTIMEZONE
BEGIN:VEVENT
DTSTART;TZID=America/New_York:20210311T180000
DTEND;TZID=America/New_York:20210311T190000
DTSTAMP:20260420T115513
CREATED:20210311T193810Z
LAST-MODIFIED:20210325T201035Z
UID:72055-1615485600-1615489200@lovebeautypro.com
SUMMARY:WiQo: PRX-T33 TREATMENT & PROTOCOL
DESCRIPTION:This training webinar is aimed at aesthetic practitioners who would like to learn more about how PRX PROTOCOL can support their practice and improve patient satisfaction \nTOPICS\nLearn about a new revolutionary PRX-T33\n“Effortless Transformation” protocol and its unlimited business potential\nPatient selection and maximizing your treatment success\nSharing our secrets: simple steps to perfect outcomes\nRevolutionizing your practice with PRX-T33\nQ&A and Webinar questionnaire block\nAfter registering\, you will receive a confirmation email containing information about joining the meeting. \nCLICK HERE TO SEE ALL UPCOMING PRX WEBINARS
URL:https://lovebeautypro.com/event/wiqo-prx-treatment-protocol/
END:VEVENT
BEGIN:VEVENT
DTSTART;TZID=America/New_York:20210311T180000
DTEND;TZID=America/New_York:20210311T190000
DTSTAMP:20260420T115513
CREATED:20210311T193810Z
LAST-MODIFIED:20210311T193810Z
UID:93514-1615485600-1615489200@lovebeautypro.com
SUMMARY:WiQo: PRX-T33 TREATMENT & PROTOCOL
DESCRIPTION:This training webinar is aimed at aesthetic practitioners who would like to learn more about how PRX PROTOCOL can support their practice and improve patient satisfaction \nTOPICS\nLearn about a new revolutionary PRX-T33\n“Effortless Transformation” protocol and its unlimited business potential\nPatient selection and maximizing your treatment success\nSharing our secrets: simple steps to perfect outcomes\nRevolutionizing your practice with PRX-T33\nQ&A and Webinar questionnaire block\nAfter registering\, you will receive a confirmation email containing information about joining the meeting. \nCLICK HERE TO SEE ALL UPCOMING PRX WEBINARS
URL:https://lovebeautypro.com/event/wiqo-prx-treatment-protocol-2/
END:VEVENT
END:VCALENDAR